BEGIN:VCALENDAR
VERSION:2.0
PRODID:-//Rasheed Ogunlaru // Coach - Speaker - Author - ECPv6.15.20//NONSGML v1.0//EN
CALSCALE:GREGORIAN
METHOD:PUBLISH
X-WR-CALNAME:Rasheed Ogunlaru // Coach - Speaker - Author
X-ORIGINAL-URL:https://www.rasaru.com
X-WR-CALDESC:Events for Rasheed Ogunlaru // Coach - Speaker - Author
REFRESH-INTERVAL;VALUE=DURATION:PT1H
X-Robots-Tag:noindex
X-PUBLISHED-TTL:PT1H
BEGIN:VTIMEZONE
TZID:Europe/London
BEGIN:DAYLIGHT
TZOFFSETFROM:+0000
TZOFFSETTO:+0100
TZNAME:BST
DTSTART:20190331T010000
END:DAYLIGHT
BEGIN:STANDARD
TZOFFSETFROM:+0100
TZOFFSETTO:+0000
TZNAME:GMT
DTSTART:20191027T010000
END:STANDARD
BEGIN:DAYLIGHT
TZOFFSETFROM:+0000
TZOFFSETTO:+0100
TZNAME:BST
DTSTART:20200329T010000
END:DAYLIGHT
BEGIN:STANDARD
TZOFFSETFROM:+0100
TZOFFSETTO:+0000
TZNAME:GMT
DTSTART:20201025T010000
END:STANDARD
BEGIN:DAYLIGHT
TZOFFSETFROM:+0000
TZOFFSETTO:+0100
TZNAME:BST
DTSTART:20210328T010000
END:DAYLIGHT
BEGIN:STANDARD
TZOFFSETFROM:+0100
TZOFFSETTO:+0000
TZNAME:GMT
DTSTART:20211031T010000
END:STANDARD
END:VTIMEZONE
BEGIN:VEVENT
DTSTART;TZID=Europe/London:20201202T120000
DTEND;TZID=Europe/London:20201202T130000
DTSTAMP:20260424T113009
CREATED:20201013T045156Z
LAST-MODIFIED:20201130T132627Z
UID:6515-1606910400-1606914000@www.rasaru.com
SUMMARY:Online: Compassion Check-in
DESCRIPTION:Register now\n \nJoin Rasheed and guests\, on Wednesdays at noon at the heart of the week\, for a journey from anxiety to heart\, mindfulness\, care and inner peace.\nWhere? Online via Zoom \nFee:  FREE \nRegister now\n 
URL:https://www.rasaru.com/event/online-compassion-check-in/
LOCATION:Online via Zoom (Compassion Check in)\, https://us02web.zoom.us/j/86543424692?pwd=S3ZRVWtaM0xIT0VjdG4yR1Jta3pxUT09\, 237984
CATEGORIES:Online Events
ATTACH;FMTTYPE=image/jpeg:https://www.rasaru.com/wp-content/uploads/comp.jpg
END:VEVENT
END:VCALENDAR