BEGIN:VCALENDAR
VERSION:2.0
PRODID:-//Rasheed Ogunlaru // Coach - Speaker - Author - ECPv6.15.20//NONSGML v1.0//EN
CALSCALE:GREGORIAN
METHOD:PUBLISH
X-WR-CALNAME:Rasheed Ogunlaru // Coach - Speaker - Author
X-ORIGINAL-URL:https://www.rasaru.com
X-WR-CALDESC:Events for Rasheed Ogunlaru // Coach - Speaker - Author
REFRESH-INTERVAL;VALUE=DURATION:PT1H
X-Robots-Tag:noindex
X-PUBLISHED-TTL:PT1H
BEGIN:VTIMEZONE
TZID:Europe/London
BEGIN:DAYLIGHT
TZOFFSETFROM:+0000
TZOFFSETTO:+0100
TZNAME:BST
DTSTART:20190331T010000
END:DAYLIGHT
BEGIN:STANDARD
TZOFFSETFROM:+0100
TZOFFSETTO:+0000
TZNAME:GMT
DTSTART:20191027T010000
END:STANDARD
BEGIN:DAYLIGHT
TZOFFSETFROM:+0000
TZOFFSETTO:+0100
TZNAME:BST
DTSTART:20200329T010000
END:DAYLIGHT
BEGIN:STANDARD
TZOFFSETFROM:+0100
TZOFFSETTO:+0000
TZNAME:GMT
DTSTART:20201025T010000
END:STANDARD
BEGIN:DAYLIGHT
TZOFFSETFROM:+0000
TZOFFSETTO:+0100
TZNAME:BST
DTSTART:20210328T010000
END:DAYLIGHT
BEGIN:STANDARD
TZOFFSETFROM:+0100
TZOFFSETTO:+0000
TZNAME:GMT
DTSTART:20211031T010000
END:STANDARD
END:VTIMEZONE
BEGIN:VEVENT
DTSTART;TZID=Europe/London:20201210T120000
DTEND;TZID=Europe/London:20201210T130000
DTSTAMP:20260425T000950
CREATED:20201115T094640Z
LAST-MODIFIED:20201115T094640Z
UID:6571-1607601600-1607605200@www.rasaru.com
SUMMARY:Online: Reset\, Restart: Your Connections | Coffee Hour
DESCRIPTION:Are you looking to talk to likeminded individuals to help you re-energise\, and find clarity and inspiration? \nDuring our new online Coffee Hours you can find time to pause\, reflect\, plan for the future and make connections with other emerging entrepreneurs on a similar journey during these uncertain times. Our host\, Rasheed Ogunlaru\, a successful life and business coach\, will be on hand to answer your questions and help moderate the discussion to ensure you get the most out of the session possible. The aim of the Coffee Hours is for you to leave energised and with a sense of how to move forward. \nSo get the kettle on and join us from the comfort of your home.\nRegister here on EventBrite \nFuture dates for this session have been left below\, these will be uploaded and available to register after the previous session has taken place. \n\nJan-Mar 2021 Dates to follow soon\n\n\nAbout your host\nRasheed Ogunlaru is a leading UK-based life coach\, motivational speaker\, business and leadership coach. He is author of Soul Trader – Putting the Heart Back into Your Business and The Gift of Inner Success and is the life & business coach partner of the British Library. He often appears in the media on life\, work\, relationship and business issues – including appearances on BBC News and ITV News.  @Rasheed Ogunlaru  www.Rasaru.com \nRegister here on EventBrite \n 
URL:https://www.rasaru.com/event/online-reset-restart-your-connections-coffee-hour/
CATEGORIES:British Library Events,Online Events
ATTACH;FMTTYPE=image/jpeg:https://www.rasaru.com/wp-content/uploads/https-cdn.evbuc_.com-images-116860345-133126995088-1-original.20201102-145401.jpeg
ORGANIZER;CN="The British Library":MAILTO:bipcworkshops@bl.uk
END:VEVENT
END:VCALENDAR