BEGIN:VCALENDAR
VERSION:2.0
PRODID:-//Rasheed Ogunlaru // Coach - Speaker - Author - ECPv6.15.20//NONSGML v1.0//EN
CALSCALE:GREGORIAN
METHOD:PUBLISH
X-WR-CALNAME:Rasheed Ogunlaru // Coach - Speaker - Author
X-ORIGINAL-URL:https://www.rasaru.com
X-WR-CALDESC:Events for Rasheed Ogunlaru // Coach - Speaker - Author
REFRESH-INTERVAL;VALUE=DURATION:PT1H
X-Robots-Tag:noindex
X-PUBLISHED-TTL:PT1H
BEGIN:VTIMEZONE
TZID:Europe/London
BEGIN:DAYLIGHT
TZOFFSETFROM:+0000
TZOFFSETTO:+0100
TZNAME:BST
DTSTART:20210328T010000
END:DAYLIGHT
BEGIN:STANDARD
TZOFFSETFROM:+0100
TZOFFSETTO:+0000
TZNAME:GMT
DTSTART:20211031T010000
END:STANDARD
BEGIN:DAYLIGHT
TZOFFSETFROM:+0000
TZOFFSETTO:+0100
TZNAME:BST
DTSTART:20220327T010000
END:DAYLIGHT
BEGIN:STANDARD
TZOFFSETFROM:+0100
TZOFFSETTO:+0000
TZNAME:GMT
DTSTART:20221030T010000
END:STANDARD
BEGIN:DAYLIGHT
TZOFFSETFROM:+0000
TZOFFSETTO:+0100
TZNAME:BST
DTSTART:20230326T010000
END:DAYLIGHT
BEGIN:STANDARD
TZOFFSETFROM:+0100
TZOFFSETTO:+0000
TZNAME:GMT
DTSTART:20231029T010000
END:STANDARD
END:VTIMEZONE
BEGIN:VEVENT
DTSTART;TZID=Europe/London:20220203T100000
DTEND;TZID=Europe/London:20220203T110000
DTSTAMP:20260424T132914
CREATED:20211210T064613Z
LAST-MODIFIED:20211210T064613Z
UID:6857-1643882400-1643886000@www.rasaru.com
SUMMARY:Online: Soul Trader – Build your business by heart
DESCRIPTION:Register now\n \nJoin leading life and business coach Rasheed Ogunlaru for this inspiring and empowering FREE webinar for sole traders\, freelancer and small business owner passionate about building an authentic business – mindful of times we’re in. This energising session takes a tour of the seven soul trader principles; clarity\, customers\, courage\, co-operation\, creativity\, conversations\, compassion… and the additional principle change. \nThis session will help you: \n\n(Re)connect to your unique self\, skills\, talent and mission\nUnderstand\, appreciate and connect to your customers more deeply and authentically\nDevelop the courage\, creativity\, cooperation and conversations to grow your business\nThis session blends top tips and insights from Rasheed’s Soul Trader book and masterclass and gives you time to have your questions answered by a leading coach.\n\nTo join this webinar\, register now: \nRegister now\nIf you’ve not used Zoom before we recommend you arrive 10 minutes before and click on the link it will prompt you to download a simple bit of free software so you can view the video. It will also prompt you to enable your audio and video on your computer so you can take part \nYou may want to download Zoom for free for ease for future sessions https://zoom.us \nAfter you have attended one of our events we ask that you complete a short feedback form. We will use the information you provide to improve the services we offer in line with our legitimate interests. This information is collected and transferred to us by our third-party processor\, Impact Reporting using their Impact Assessment Tool. Impact Reporting will retain your data to save time when completing any future feedback forms we may send you. For more information about how they use personal information\, please see their privacy policy online at https://impactreporting.co.uk/legal/privacy-policy/ \nFor information about how the British Library will use your personal data\, you can view our Privacy Policy at https://www.bl.uk/about-us/privacy-policy \nAbout the speaker \nRasheed Ogunlaru is a leading life coach\, motivational speaker and business / leadership coach. The author of Soul Trader – Putting the Heart Back into Your Business and is life and business coach partner to the British Library Business & IP Centre. This session is run in proud partnership with the British Library Business & IP Centre. \nAbout the BIPC \nDon’t forget we have over £5m worth of online market reports from top publishers Mintel\, Frost & Sullivan\, Euromonitor amongst others\, company data for over 144 million UK and global companies\, over 60 million patents and more. With a Reader Pass you can access all of these resources for free before or after your workshop (or in the break if you can’t keep away!) and get your business ahead of the competition. \nRegister now
URL:https://www.rasaru.com/event/online-soul-trader-build-your-business-by-heart-12/
LOCATION:Online via Zoom (Soul Trader)\, https://zoom.us/j/93404641457?pwd=azVaWHp0N0dpdXZnbHpDd3gzbHpWUT09\, 668470
CATEGORIES:British Library Events,Online Events
ATTACH;FMTTYPE=image/jpeg:https://www.rasaru.com/wp-content/uploads/image-event-st-2.jpg
ORGANIZER;CN="The British Library":MAILTO:bipcworkshops@bl.uk
END:VEVENT
END:VCALENDAR