BEGIN:VCALENDAR
VERSION:2.0
PRODID:-//Rasheed Ogunlaru // Coach - Speaker - Author - ECPv6.15.20//NONSGML v1.0//EN
CALSCALE:GREGORIAN
METHOD:PUBLISH
X-WR-CALNAME:Rasheed Ogunlaru // Coach - Speaker - Author
X-ORIGINAL-URL:https://www.rasaru.com
X-WR-CALDESC:Events for Rasheed Ogunlaru // Coach - Speaker - Author
REFRESH-INTERVAL;VALUE=DURATION:PT1H
X-Robots-Tag:noindex
X-PUBLISHED-TTL:PT1H
BEGIN:VTIMEZONE
TZID:Europe/London
BEGIN:DAYLIGHT
TZOFFSETFROM:+0000
TZOFFSETTO:+0100
TZNAME:BST
DTSTART:20250330T010000
END:DAYLIGHT
BEGIN:STANDARD
TZOFFSETFROM:+0100
TZOFFSETTO:+0000
TZNAME:GMT
DTSTART:20251026T010000
END:STANDARD
BEGIN:DAYLIGHT
TZOFFSETFROM:+0000
TZOFFSETTO:+0100
TZNAME:BST
DTSTART:20260329T010000
END:DAYLIGHT
BEGIN:STANDARD
TZOFFSETFROM:+0100
TZOFFSETTO:+0000
TZNAME:GMT
DTSTART:20261025T010000
END:STANDARD
BEGIN:DAYLIGHT
TZOFFSETFROM:+0000
TZOFFSETTO:+0100
TZNAME:BST
DTSTART:20270328T010000
END:DAYLIGHT
BEGIN:STANDARD
TZOFFSETFROM:+0100
TZOFFSETTO:+0000
TZNAME:GMT
DTSTART:20271031T010000
END:STANDARD
END:VTIMEZONE
BEGIN:VEVENT
DTSTART;TZID=Europe/London:20260507T100000
DTEND;TZID=Europe/London:20260507T113000
DTSTAMP:20260423T170740
CREATED:20251114T155927Z
LAST-MODIFIED:20251114T155927Z
UID:8245-1778148000-1778153400@www.rasaru.com
SUMMARY:Soul Trader: Build your business by heart (Online)
DESCRIPTION:
URL:https://www.eventbrite.com/e/soul-trader-build-your-business-by-heart-tickets-575993801967#new_tab
CATEGORIES:British Library Events,Online Events
ATTACH;FMTTYPE=image/jpeg:https://www.rasaru.com/wp-content/uploads/202306-soul-trader-events-new-logo.jpg
END:VEVENT
BEGIN:VEVENT
DTSTART;TZID=Europe/London:20260507T140000
DTEND;TZID=Europe/London:20260507T150000
DTSTAMP:20260423T170740
CREATED:20251114T155402Z
LAST-MODIFIED:20251114T155402Z
UID:8221-1778162400-1778166000@www.rasaru.com
SUMMARY:Networking for Success - Express
DESCRIPTION:
URL:https://www.eventbrite.com/e/networking-for-success-express-tickets-575805157727#new_tab
CATEGORIES:British Library Events,Online Events
ATTACH;FMTTYPE=image/jpeg:https://www.rasaru.com/wp-content/uploads/202306-networking-events-new-logo.jpg
END:VEVENT
BEGIN:VEVENT
DTSTART;TZID=Europe/London:20260603T100000
DTEND;TZID=Europe/London:20260603T113000
DTSTAMP:20260423T170740
CREATED:20251114T155912Z
LAST-MODIFIED:20251114T155912Z
UID:8244-1780480800-1780486200@www.rasaru.com
SUMMARY:Soul Trader: Build your business by heart (Online)
DESCRIPTION:
URL:https://www.eventbrite.com/e/soul-trader-build-your-business-by-heart-tickets-575993801967#new_tab
CATEGORIES:British Library Events,Online Events
ATTACH;FMTTYPE=image/jpeg:https://www.rasaru.com/wp-content/uploads/202306-soul-trader-events-new-logo.jpg
END:VEVENT
BEGIN:VEVENT
DTSTART;TZID=Europe/London:20260603T140000
DTEND;TZID=Europe/London:20260603T150000
DTSTAMP:20260423T170740
CREATED:20251114T155427Z
LAST-MODIFIED:20251114T155427Z
UID:8222-1780495200-1780498800@www.rasaru.com
SUMMARY:Networking for Success - Express
DESCRIPTION:
URL:https://www.eventbrite.com/e/networking-for-success-express-tickets-575805157727#new_tab
CATEGORIES:British Library Events,Online Events
ATTACH;FMTTYPE=image/jpeg:https://www.rasaru.com/wp-content/uploads/202306-networking-events-new-logo.jpg
END:VEVENT
BEGIN:VEVENT
DTSTART;TZID=Europe/London:20260715T100000
DTEND;TZID=Europe/London:20260715T113000
DTSTAMP:20260423T170740
CREATED:20251114T155855Z
LAST-MODIFIED:20251114T155855Z
UID:8243-1784109600-1784115000@www.rasaru.com
SUMMARY:Soul Trader: Build your business by heart (Online)
DESCRIPTION:
URL:https://www.eventbrite.com/e/soul-trader-build-your-business-by-heart-tickets-575993801967#new_tab
CATEGORIES:British Library Events,Online Events
ATTACH;FMTTYPE=image/jpeg:https://www.rasaru.com/wp-content/uploads/202306-soul-trader-events-new-logo.jpg
END:VEVENT
BEGIN:VEVENT
DTSTART;TZID=Europe/London:20260715T140000
DTEND;TZID=Europe/London:20260715T150000
DTSTAMP:20260423T170740
CREATED:20251114T155449Z
LAST-MODIFIED:20251114T155449Z
UID:8223-1784124000-1784127600@www.rasaru.com
SUMMARY:Networking for Success - Express
DESCRIPTION:
URL:https://www.eventbrite.com/e/networking-for-success-express-tickets-575805157727#new_tab
CATEGORIES:British Library Events,Online Events
ATTACH;FMTTYPE=image/jpeg:https://www.rasaru.com/wp-content/uploads/202306-networking-events-new-logo.jpg
END:VEVENT
BEGIN:VEVENT
DTSTART;TZID=Europe/London:20260909T100000
DTEND;TZID=Europe/London:20260909T113000
DTSTAMP:20260423T170740
CREATED:20251114T155838Z
LAST-MODIFIED:20251114T155838Z
UID:8242-1788948000-1788953400@www.rasaru.com
SUMMARY:Soul Trader: Build your business by heart (Online)
DESCRIPTION:
URL:https://www.eventbrite.com/e/soul-trader-build-your-business-by-heart-tickets-575993801967#new_tab
CATEGORIES:British Library Events,Online Events
ATTACH;FMTTYPE=image/jpeg:https://www.rasaru.com/wp-content/uploads/202306-soul-trader-events-new-logo.jpg
END:VEVENT
BEGIN:VEVENT
DTSTART;TZID=Europe/London:20260909T140000
DTEND;TZID=Europe/London:20260909T150000
DTSTAMP:20260423T170740
CREATED:20251114T155607Z
LAST-MODIFIED:20251114T155607Z
UID:8224-1788962400-1788966000@www.rasaru.com
SUMMARY:Networking for Success - Express
DESCRIPTION:
URL:https://www.eventbrite.com/e/networking-for-success-express-tickets-575805157727#new_tab
CATEGORIES:British Library Events,Online Events
ATTACH;FMTTYPE=image/jpeg:https://www.rasaru.com/wp-content/uploads/202306-networking-events-new-logo.jpg
END:VEVENT
BEGIN:VEVENT
DTSTART;TZID=Europe/London:20261007T100000
DTEND;TZID=Europe/London:20261007T113000
DTSTAMP:20260423T170740
CREATED:20251114T155823Z
LAST-MODIFIED:20251114T155823Z
UID:8241-1791367200-1791372600@www.rasaru.com
SUMMARY:Soul Trader: Build your business by heart (Online)
DESCRIPTION:
URL:https://www.eventbrite.com/e/soul-trader-build-your-business-by-heart-tickets-575993801967#new_tab
CATEGORIES:British Library Events,Online Events
ATTACH;FMTTYPE=image/jpeg:https://www.rasaru.com/wp-content/uploads/202306-soul-trader-events-new-logo.jpg
END:VEVENT
BEGIN:VEVENT
DTSTART;TZID=Europe/London:20261007T140000
DTEND;TZID=Europe/London:20261007T150000
DTSTAMP:20260423T170740
CREATED:20251114T155625Z
LAST-MODIFIED:20251114T155625Z
UID:8225-1791381600-1791385200@www.rasaru.com
SUMMARY:Networking for Success - Express
DESCRIPTION:
URL:https://www.eventbrite.com/e/networking-for-success-express-tickets-575805157727#new_tab
CATEGORIES:British Library Events,Online Events
ATTACH;FMTTYPE=image/jpeg:https://www.rasaru.com/wp-content/uploads/202306-networking-events-new-logo.jpg
END:VEVENT
BEGIN:VEVENT
DTSTART;TZID=Europe/London:20261104T100000
DTEND;TZID=Europe/London:20261104T113000
DTSTAMP:20260423T170740
CREATED:20251114T155804Z
LAST-MODIFIED:20251114T155804Z
UID:8240-1793786400-1793791800@www.rasaru.com
SUMMARY:Soul Trader: Build your business by heart (Online)
DESCRIPTION:
URL:https://www.eventbrite.com/e/soul-trader-build-your-business-by-heart-tickets-575993801967#new_tab
CATEGORIES:British Library Events,Online Events
ATTACH;FMTTYPE=image/jpeg:https://www.rasaru.com/wp-content/uploads/202306-soul-trader-events-new-logo.jpg
END:VEVENT
BEGIN:VEVENT
DTSTART;TZID=Europe/London:20261104T140000
DTEND;TZID=Europe/London:20261104T150000
DTSTAMP:20260423T170740
CREATED:20251114T155642Z
LAST-MODIFIED:20251114T155642Z
UID:8226-1793800800-1793804400@www.rasaru.com
SUMMARY:Networking for Success - Express
DESCRIPTION:
URL:https://www.eventbrite.com/e/networking-for-success-express-tickets-575805157727#new_tab
CATEGORIES:British Library Events,Online Events
ATTACH;FMTTYPE=image/jpeg:https://www.rasaru.com/wp-content/uploads/202306-networking-events-new-logo.jpg
END:VEVENT
BEGIN:VEVENT
DTSTART;TZID=Europe/London:20261202T100000
DTEND;TZID=Europe/London:20261202T113000
DTSTAMP:20260423T170740
CREATED:20251114T155746Z
LAST-MODIFIED:20251114T155746Z
UID:8239-1796205600-1796211000@www.rasaru.com
SUMMARY:Soul Trader: Build your business by heart (Online)
DESCRIPTION:
URL:https://www.eventbrite.com/e/soul-trader-build-your-business-by-heart-tickets-575993801967#new_tab
CATEGORIES:British Library Events,Online Events
ATTACH;FMTTYPE=image/jpeg:https://www.rasaru.com/wp-content/uploads/202306-soul-trader-events-new-logo.jpg
END:VEVENT
BEGIN:VEVENT
DTSTART;TZID=Europe/London:20261202T140000
DTEND;TZID=Europe/London:20261202T150000
DTSTAMP:20260423T170740
CREATED:20251114T155655Z
LAST-MODIFIED:20251114T155655Z
UID:8227-1796220000-1796223600@www.rasaru.com
SUMMARY:Networking for Success - Express
DESCRIPTION:
URL:https://www.eventbrite.com/e/networking-for-success-express-tickets-575805157727#new_tab
CATEGORIES:British Library Events,Online Events
ATTACH;FMTTYPE=image/jpeg:https://www.rasaru.com/wp-content/uploads/202306-networking-events-new-logo.jpg
END:VEVENT
END:VCALENDAR