BEGIN:VCALENDAR
VERSION:2.0
PRODID:-//Rasheed Ogunlaru // Coach - Speaker - Author - ECPv6.15.20//NONSGML v1.0//EN
CALSCALE:GREGORIAN
METHOD:PUBLISH
X-ORIGINAL-URL:https://www.rasaru.com
X-WR-CALDESC:Events for Rasheed Ogunlaru // Coach - Speaker - Author
REFRESH-INTERVAL;VALUE=DURATION:PT1H
X-Robots-Tag:noindex
X-PUBLISHED-TTL:PT1H
BEGIN:VTIMEZONE
TZID:Europe/London
BEGIN:DAYLIGHT
TZOFFSETFROM:+0000
TZOFFSETTO:+0100
TZNAME:BST
DTSTART:20220327T010000
END:DAYLIGHT
BEGIN:STANDARD
TZOFFSETFROM:+0100
TZOFFSETTO:+0000
TZNAME:GMT
DTSTART:20221030T010000
END:STANDARD
BEGIN:DAYLIGHT
TZOFFSETFROM:+0000
TZOFFSETTO:+0100
TZNAME:BST
DTSTART:20230326T010000
END:DAYLIGHT
BEGIN:STANDARD
TZOFFSETFROM:+0100
TZOFFSETTO:+0000
TZNAME:GMT
DTSTART:20231029T010000
END:STANDARD
BEGIN:DAYLIGHT
TZOFFSETFROM:+0000
TZOFFSETTO:+0100
TZNAME:BST
DTSTART:20240331T010000
END:DAYLIGHT
BEGIN:STANDARD
TZOFFSETFROM:+0100
TZOFFSETTO:+0000
TZNAME:GMT
DTSTART:20241027T010000
END:STANDARD
BEGIN:DAYLIGHT
TZOFFSETFROM:+0000
TZOFFSETTO:+0100
TZNAME:BST
DTSTART:20250330T010000
END:DAYLIGHT
BEGIN:STANDARD
TZOFFSETFROM:+0100
TZOFFSETTO:+0000
TZNAME:GMT
DTSTART:20251026T010000
END:STANDARD
BEGIN:DAYLIGHT
TZOFFSETFROM:+0000
TZOFFSETTO:+0100
TZNAME:BST
DTSTART:20260329T010000
END:DAYLIGHT
BEGIN:STANDARD
TZOFFSETFROM:+0100
TZOFFSETTO:+0000
TZNAME:GMT
DTSTART:20261025T010000
END:STANDARD
END:VTIMEZONE
BEGIN:VEVENT
DTSTART;TZID=Europe/London:20250307T140000
DTEND;TZID=Europe/London:20250307T150000
DTSTAMP:20260424T003825
CREATED:20241112T115230Z
LAST-MODIFIED:20241112T115230Z
UID:7439-1741356000-1741359600@www.rasaru.com
SUMMARY:Networking for Success - Express
DESCRIPTION:
URL:https://www.eventbrite.com/e/networking-for-success-express-tickets-575805157727#new_tab
CATEGORIES:British Library Events,Online Events
ATTACH;FMTTYPE=image/jpeg:https://www.rasaru.com/wp-content/uploads/202306-networking-events-new-logo.jpg
END:VEVENT
BEGIN:VEVENT
DTSTART;TZID=Europe/London:20250307T100000
DTEND;TZID=Europe/London:20250307T113000
DTSTAMP:20260424T003825
CREATED:20241112T114606Z
LAST-MODIFIED:20241112T114606Z
UID:7448-1741341600-1741347000@www.rasaru.com
SUMMARY:Soul Trader: Build your business by heart (Online)
DESCRIPTION:
URL:https://www.eventbrite.com/e/soul-trader-build-your-business-by-heart-tickets-575993801967#new_tab
CATEGORIES:British Library Events,Online Events
ATTACH;FMTTYPE=image/jpeg:https://www.rasaru.com/wp-content/uploads/202306-soul-trader-events-new-logo.jpg
END:VEVENT
BEGIN:VEVENT
DTSTART;TZID=Europe/London:20250205T140000
DTEND;TZID=Europe/London:20250205T150000
DTSTAMP:20260424T003825
CREATED:20241112T114235Z
LAST-MODIFIED:20241112T114235Z
UID:7426-1738764000-1738767600@www.rasaru.com
SUMMARY:Networking for Success - Express
DESCRIPTION:
URL:https://www.eventbrite.com/e/networking-for-success-express-tickets-575805157727#new_tab
CATEGORIES:British Library Events,Online Events
ATTACH;FMTTYPE=image/jpeg:https://www.rasaru.com/wp-content/uploads/202306-networking-events-new-logo.jpg
END:VEVENT
BEGIN:VEVENT
DTSTART;TZID=Europe/London:20250205T100000
DTEND;TZID=Europe/London:20250205T113000
DTSTAMP:20260424T003825
CREATED:20241112T114233Z
LAST-MODIFIED:20241112T114233Z
UID:7427-1738749600-1738755000@www.rasaru.com
SUMMARY:Soul Trader: Build your business by heart (Online)
DESCRIPTION:
URL:https://www.eventbrite.com/e/soul-trader-build-your-business-by-heart-tickets-575993801967#new_tab
CATEGORIES:British Library Events,Online Events
ATTACH;FMTTYPE=image/jpeg:https://www.rasaru.com/wp-content/uploads/202306-soul-trader-events-new-logo.jpg
END:VEVENT
BEGIN:VEVENT
DTSTART;TZID=Europe/London:20250113T140000
DTEND;TZID=Europe/London:20250113T150000
DTSTAMP:20260424T003825
CREATED:20241112T114107Z
LAST-MODIFIED:20241112T114107Z
UID:7421-1736776800-1736780400@www.rasaru.com
SUMMARY:Networking for Success - Express
DESCRIPTION:
URL:https://www.eventbrite.com/e/networking-for-success-express-tickets-575805157727#new_tab
CATEGORIES:British Library Events,Online Events
ATTACH;FMTTYPE=image/jpeg:https://www.rasaru.com/wp-content/uploads/202306-networking-events-new-logo.jpg
END:VEVENT
BEGIN:VEVENT
DTSTART;TZID=Europe/London:20250113T100000
DTEND;TZID=Europe/London:20250113T113000
DTSTAMP:20260424T003825
CREATED:20241112T114104Z
LAST-MODIFIED:20241112T114105Z
UID:7422-1736762400-1736767800@www.rasaru.com
SUMMARY:Soul Trader: Build your business by heart (Online)
DESCRIPTION:
URL:https://www.eventbrite.com/e/soul-trader-build-your-business-by-heart-tickets-575993801967#new_tab
CATEGORIES:British Library Events,Online Events
ATTACH;FMTTYPE=image/jpeg:https://www.rasaru.com/wp-content/uploads/202306-soul-trader-events-new-logo.jpg
END:VEVENT
BEGIN:VEVENT
DTSTART;TZID=Europe/London:20241204T140000
DTEND;TZID=Europe/London:20241204T150000
DTSTAMP:20260424T003825
CREATED:20231104T085913Z
LAST-MODIFIED:20240709T151827Z
UID:7253-1733320800-1733324400@www.rasaru.com
SUMMARY:Networking for Success - Express
DESCRIPTION:
URL:https://www.eventbrite.com/e/networking-for-success-express-tickets-575805157727#new_tab
CATEGORIES:British Library Events,Online Events
ATTACH;FMTTYPE=image/jpeg:https://www.rasaru.com/wp-content/uploads/202306-networking-events-new-logo.jpg
END:VEVENT
BEGIN:VEVENT
DTSTART;TZID=Europe/London:20241204T100000
DTEND;TZID=Europe/London:20241204T113000
DTSTAMP:20260424T003825
CREATED:20231104T092117Z
LAST-MODIFIED:20240709T151858Z
UID:7269-1733306400-1733311800@www.rasaru.com
SUMMARY:Soul Trader: Build your business by heart (Online)
DESCRIPTION:
URL:https://www.eventbrite.com/e/soul-trader-build-your-business-by-heart-tickets-575993801967#new_tab
CATEGORIES:British Library Events,Online Events
ATTACH;FMTTYPE=image/jpeg:https://www.rasaru.com/wp-content/uploads/202306-soul-trader-events-new-logo.jpg
END:VEVENT
BEGIN:VEVENT
DTSTART;TZID=Europe/London:20241106T140000
DTEND;TZID=Europe/London:20241106T150000
DTSTAMP:20260424T003825
CREATED:20231104T085903Z
LAST-MODIFIED:20240709T151831Z
UID:7252-1730901600-1730905200@www.rasaru.com
SUMMARY:Networking for Success - Express
DESCRIPTION:
URL:https://www.eventbrite.com/e/networking-for-success-express-tickets-575805157727#new_tab
CATEGORIES:British Library Events,Online Events
ATTACH;FMTTYPE=image/jpeg:https://www.rasaru.com/wp-content/uploads/202306-networking-events-new-logo.jpg
END:VEVENT
BEGIN:VEVENT
DTSTART;TZID=Europe/London:20241106T100000
DTEND;TZID=Europe/London:20241106T113000
DTSTAMP:20260424T003825
CREATED:20231104T092108Z
LAST-MODIFIED:20240709T151854Z
UID:7267-1730887200-1730892600@www.rasaru.com
SUMMARY:Soul Trader: Build your business by heart (Online)
DESCRIPTION:
URL:https://www.eventbrite.com/e/soul-trader-build-your-business-by-heart-tickets-575993801967#new_tab
CATEGORIES:British Library Events,Online Events
ATTACH;FMTTYPE=image/jpeg:https://www.rasaru.com/wp-content/uploads/202306-soul-trader-events-new-logo.jpg
END:VEVENT
BEGIN:VEVENT
DTSTART;TZID=Europe/London:20241009T140000
DTEND;TZID=Europe/London:20241009T150000
DTSTAMP:20260424T003825
CREATED:20231104T085854Z
LAST-MODIFIED:20240709T151832Z
UID:7251-1728482400-1728486000@www.rasaru.com
SUMMARY:Networking for Success - Express
DESCRIPTION:
URL:https://www.eventbrite.com/e/networking-for-success-express-tickets-575805157727#new_tab
CATEGORIES:British Library Events,Online Events
ATTACH;FMTTYPE=image/jpeg:https://www.rasaru.com/wp-content/uploads/202306-networking-events-new-logo.jpg
END:VEVENT
BEGIN:VEVENT
DTSTART;TZID=Europe/London:20241009T100000
DTEND;TZID=Europe/London:20241009T113000
DTSTAMP:20260424T003825
CREATED:20231104T092059Z
LAST-MODIFIED:20240709T151852Z
UID:7268-1728468000-1728473400@www.rasaru.com
SUMMARY:Soul Trader: Build your business by heart (Online)
DESCRIPTION:
URL:https://www.eventbrite.com/e/soul-trader-build-your-business-by-heart-tickets-575993801967#new_tab
CATEGORIES:British Library Events,Online Events
ATTACH;FMTTYPE=image/jpeg:https://www.rasaru.com/wp-content/uploads/202306-soul-trader-events-new-logo.jpg
END:VEVENT
BEGIN:VEVENT
DTSTART;TZID=Europe/London:20240904T140000
DTEND;TZID=Europe/London:20240904T150000
DTSTAMP:20260424T003825
CREATED:20231104T085827Z
LAST-MODIFIED:20240709T151834Z
UID:7250-1725458400-1725462000@www.rasaru.com
SUMMARY:Networking for Success - Express
DESCRIPTION:
URL:https://www.eventbrite.com/e/networking-for-success-express-tickets-575805157727#new_tab
CATEGORIES:British Library Events,Online Events
ATTACH;FMTTYPE=image/jpeg:https://www.rasaru.com/wp-content/uploads/202306-networking-events-new-logo.jpg
END:VEVENT
BEGIN:VEVENT
DTSTART;TZID=Europe/London:20240904T100000
DTEND;TZID=Europe/London:20240904T113000
DTSTAMP:20260424T003825
CREATED:20231104T092049Z
LAST-MODIFIED:20240709T151849Z
UID:7265-1725444000-1725449400@www.rasaru.com
SUMMARY:Soul Trader: Build your business by heart (Online)
DESCRIPTION:
URL:https://www.eventbrite.com/e/soul-trader-build-your-business-by-heart-tickets-575993801967#new_tab
CATEGORIES:British Library Events,Online Events
ATTACH;FMTTYPE=image/jpeg:https://www.rasaru.com/wp-content/uploads/202306-soul-trader-events-new-logo.jpg
END:VEVENT
BEGIN:VEVENT
DTSTART;TZID=Europe/London:20240703T140000
DTEND;TZID=Europe/London:20240703T150000
DTSTAMP:20260424T003825
CREATED:20231104T085821Z
LAST-MODIFIED:20240709T151846Z
UID:7249-1720015200-1720018800@www.rasaru.com
SUMMARY:Networking for Success - Express
DESCRIPTION:
URL:https://www.eventbrite.com/e/networking-for-success-express-tickets-575805157727#new_tab
CATEGORIES:British Library Events,Online Events
ATTACH;FMTTYPE=image/jpeg:https://www.rasaru.com/wp-content/uploads/202306-networking-events-new-logo.jpg
END:VEVENT
BEGIN:VEVENT
DTSTART;TZID=Europe/London:20240703T100000
DTEND;TZID=Europe/London:20240703T113000
DTSTAMP:20260424T003825
CREATED:20231104T092006Z
LAST-MODIFIED:20240709T151843Z
UID:7266-1720000800-1720006200@www.rasaru.com
SUMMARY:Soul Trader: Build your business by heart (Online)
DESCRIPTION:
URL:https://www.eventbrite.com/e/soul-trader-build-your-business-by-heart-tickets-575993801967#new_tab
CATEGORIES:British Library Events,Online Events
ATTACH;FMTTYPE=image/jpeg:https://www.rasaru.com/wp-content/uploads/202306-soul-trader-events-new-logo.jpg
END:VEVENT
BEGIN:VEVENT
DTSTART;TZID=Europe/London:20240605T150000
DTEND;TZID=Europe/London:20240605T160000
DTSTAMP:20260424T003825
CREATED:20231104T085545Z
LAST-MODIFIED:20231104T085603Z
UID:7245-1717599600-1717603200@www.rasaru.com
SUMMARY:Networking for Success - Express
DESCRIPTION:
URL:https://www.eventbrite.com/e/networking-for-success-express-tickets-575805157727#new_tab
CATEGORIES:British Library Events,Online Events
ATTACH;FMTTYPE=image/jpeg:https://www.rasaru.com/wp-content/uploads/202306-networking-events-new-logo.jpg
END:VEVENT
BEGIN:VEVENT
DTSTART;TZID=Europe/London:20240605T110000
DTEND;TZID=Europe/London:20240605T123000
DTSTAMP:20260424T003825
CREATED:20231104T092001Z
LAST-MODIFIED:20231104T092001Z
UID:7262-1717585200-1717590600@www.rasaru.com
SUMMARY:Soul Trader: Build your business by heart (Online)
DESCRIPTION:
URL:https://www.eventbrite.com/e/soul-trader-build-your-business-by-heart-tickets-575993801967#new_tab
CATEGORIES:British Library Events,Online Events
ATTACH;FMTTYPE=image/jpeg:https://www.rasaru.com/wp-content/uploads/202306-soul-trader-events-new-logo.jpg
END:VEVENT
BEGIN:VEVENT
DTSTART;TZID=Europe/London:20240515T150000
DTEND;TZID=Europe/London:20240515T160000
DTSTAMP:20260424T003825
CREATED:20231104T085536Z
LAST-MODIFIED:20231104T085536Z
UID:7244-1715785200-1715788800@www.rasaru.com
SUMMARY:Networking for Success - Express
DESCRIPTION:
URL:https://www.eventbrite.com/e/networking-for-success-express-tickets-575805157727#new_tab
CATEGORIES:British Library Events,Online Events
ATTACH;FMTTYPE=image/jpeg:https://www.rasaru.com/wp-content/uploads/202306-networking-events-new-logo.jpg
END:VEVENT
BEGIN:VEVENT
DTSTART;TZID=Europe/London:20240515T110000
DTEND;TZID=Europe/London:20240515T123000
DTSTAMP:20260424T003825
CREATED:20231104T091952Z
LAST-MODIFIED:20231104T091952Z
UID:7263-1715770800-1715776200@www.rasaru.com
SUMMARY:Soul Trader: Build your business by heart (Online)
DESCRIPTION:
URL:https://www.eventbrite.com/e/soul-trader-build-your-business-by-heart-tickets-575993801967#new_tab
CATEGORIES:British Library Events,Online Events
ATTACH;FMTTYPE=image/jpeg:https://www.rasaru.com/wp-content/uploads/202306-soul-trader-events-new-logo.jpg
END:VEVENT
BEGIN:VEVENT
DTSTART;TZID=Europe/London:20240403T150000
DTEND;TZID=Europe/London:20240403T160000
DTSTAMP:20260424T003825
CREATED:20231104T085532Z
LAST-MODIFIED:20231104T085532Z
UID:7243-1712156400-1712160000@www.rasaru.com
SUMMARY:Networking for Success - Express
DESCRIPTION:
URL:https://www.eventbrite.com/e/networking-for-success-express-tickets-575805157727#new_tab
CATEGORIES:British Library Events,Online Events
ATTACH;FMTTYPE=image/jpeg:https://www.rasaru.com/wp-content/uploads/202306-networking-events-new-logo.jpg
END:VEVENT
BEGIN:VEVENT
DTSTART;TZID=Europe/London:20240403T110000
DTEND;TZID=Europe/London:20240403T123000
DTSTAMP:20260424T003825
CREATED:20231104T091917Z
LAST-MODIFIED:20231104T091917Z
UID:7264-1712142000-1712147400@www.rasaru.com
SUMMARY:Soul Trader: Build your business by heart (Online)
DESCRIPTION:
URL:https://www.eventbrite.com/e/soul-trader-build-your-business-by-heart-tickets-575993801967#new_tab
CATEGORIES:British Library Events,Online Events
ATTACH;FMTTYPE=image/jpeg:https://www.rasaru.com/wp-content/uploads/202306-soul-trader-events-new-logo.jpg
END:VEVENT
BEGIN:VEVENT
DTSTART;TZID=Europe/London:20240313T140000
DTEND;TZID=Europe/London:20240313T150000
DTSTAMP:20260424T003825
CREATED:20231104T085406Z
LAST-MODIFIED:20231104T085406Z
UID:7238-1710338400-1710342000@www.rasaru.com
SUMMARY:Networking for Success - Express
DESCRIPTION:
URL:https://www.eventbrite.com/e/networking-for-success-express-tickets-575805157727#new_tab
CATEGORIES:British Library Events,Online Events
ATTACH;FMTTYPE=image/jpeg:https://www.rasaru.com/wp-content/uploads/202306-networking-events-new-logo.jpg
END:VEVENT
BEGIN:VEVENT
DTSTART;TZID=Europe/London:20240313T100000
DTEND;TZID=Europe/London:20240313T113000
DTSTAMP:20260424T003825
CREATED:20231104T091909Z
LAST-MODIFIED:20231104T091909Z
UID:7261-1710324000-1710329400@www.rasaru.com
SUMMARY:Soul Trader: Build your business by heart (Online)
DESCRIPTION:
URL:https://www.eventbrite.com/e/soul-trader-build-your-business-by-heart-tickets-575993801967#new_tab
CATEGORIES:British Library Events,Online Events
ATTACH;FMTTYPE=image/jpeg:https://www.rasaru.com/wp-content/uploads/202306-soul-trader-events-new-logo.jpg
END:VEVENT
BEGIN:VEVENT
DTSTART;TZID=Europe/London:20240207T140000
DTEND;TZID=Europe/London:20240207T150000
DTSTAMP:20260424T003825
CREATED:20231104T085359Z
LAST-MODIFIED:20231104T085359Z
UID:7237-1707314400-1707318000@www.rasaru.com
SUMMARY:Networking for Success - Express
DESCRIPTION:
URL:https://www.eventbrite.com/e/networking-for-success-express-tickets-575805157727#new_tab
CATEGORIES:British Library Events,Online Events
ATTACH;FMTTYPE=image/jpeg:https://www.rasaru.com/wp-content/uploads/202306-networking-events-new-logo.jpg
END:VEVENT
BEGIN:VEVENT
DTSTART;TZID=Europe/London:20240207T100000
DTEND;TZID=Europe/London:20240207T113000
DTSTAMP:20260424T003825
CREATED:20231104T091901Z
LAST-MODIFIED:20231104T092132Z
UID:7260-1707300000-1707305400@www.rasaru.com
SUMMARY:Soul Trader: Build your business by heart (Online)
DESCRIPTION:
URL:https://www.eventbrite.com/e/soul-trader-build-your-business-by-heart-tickets-575993801967#new_tab
CATEGORIES:British Library Events,Online Events
ATTACH;FMTTYPE=image/jpeg:https://www.rasaru.com/wp-content/uploads/202306-soul-trader-events-new-logo.jpg
END:VEVENT
BEGIN:VEVENT
DTSTART;TZID=Europe/London:20240110T140000
DTEND;TZID=Europe/London:20240110T150000
DTSTAMP:20260424T003825
CREATED:20231104T085354Z
LAST-MODIFIED:20231104T085354Z
UID:7236-1704895200-1704898800@www.rasaru.com
SUMMARY:Networking for Success - Express
DESCRIPTION:
URL:https://www.eventbrite.com/e/networking-for-success-express-tickets-575805157727#new_tab
CATEGORIES:British Library Events,Online Events
ATTACH;FMTTYPE=image/jpeg:https://www.rasaru.com/wp-content/uploads/202306-networking-events-new-logo.jpg
END:VEVENT
BEGIN:VEVENT
DTSTART;TZID=Europe/London:20240110T100000
DTEND;TZID=Europe/London:20240110T113000
DTSTAMP:20260424T003825
CREATED:20231104T091852Z
LAST-MODIFIED:20231104T091852Z
UID:7259-1704880800-1704886200@www.rasaru.com
SUMMARY:Soul Trader: Build your business by heart (Online)
DESCRIPTION:
URL:https://www.eventbrite.com/e/soul-trader-build-your-business-by-heart-tickets-575993801967#new_tab
CATEGORIES:British Library Events,Online Events
ATTACH;FMTTYPE=image/jpeg:https://www.rasaru.com/wp-content/uploads/202306-soul-trader-events-new-logo.jpg
END:VEVENT
BEGIN:VEVENT
DTSTART;TZID=Europe/London:20231206T140000
DTEND;TZID=Europe/London:20231206T150000
DTSTAMP:20260424T003825
CREATED:20230307T142055Z
LAST-MODIFIED:20230613T091051Z
UID:7106-1701871200-1701874800@www.rasaru.com
SUMMARY:Networking for Success - Express
DESCRIPTION:
URL:https://www.eventbrite.com/e/networking-for-success-express-tickets-575805157727#new_tab
CATEGORIES:British Library Events,Online Events
ATTACH;FMTTYPE=image/jpeg:https://www.rasaru.com/wp-content/uploads/202306-networking-events-new-logo.jpg
END:VEVENT
BEGIN:VEVENT
DTSTART;TZID=Europe/London:20231206T100000
DTEND;TZID=Europe/London:20231206T113000
DTSTAMP:20260424T003825
CREATED:20230307T141906Z
LAST-MODIFIED:20230613T090713Z
UID:7113-1701856800-1701862200@www.rasaru.com
SUMMARY:Soul Trader: Build your business by heart (Online)
DESCRIPTION:
URL:https://www.eventbrite.com/e/soul-trader-build-your-business-by-heart-tickets-575993801967#new_tab
CATEGORIES:British Library Events,Online Events
ATTACH;FMTTYPE=image/jpeg:https://www.rasaru.com/wp-content/uploads/202306-soul-trader-events-new-logo.jpg
END:VEVENT
END:VCALENDAR